BEGIN:VCALENDAR
VERSION:2.0
PRODID:-//Don Bosco Prep - ECPv6.10.2//NONSGML v1.0//EN
CALSCALE:GREGORIAN
METHOD:PUBLISH
X-WR-CALNAME:Don Bosco Prep
X-ORIGINAL-URL:https://www.donboscoprep.org
X-WR-CALDESC:Events for Don Bosco Prep
REFRESH-INTERVAL;VALUE=DURATION:PT1H
X-Robots-Tag:noindex
X-PUBLISHED-TTL:PT1H
BEGIN:VTIMEZONE
TZID:America/New_York
BEGIN:DAYLIGHT
TZOFFSETFROM:-0500
TZOFFSETTO:-0400
TZNAME:EDT
DTSTART:20240310T070000
END:DAYLIGHT
BEGIN:STANDARD
TZOFFSETFROM:-0400
TZOFFSETTO:-0500
TZNAME:EST
DTSTART:20241103T060000
END:STANDARD
END:VTIMEZONE
BEGIN:VEVENT
DTSTART;VALUE=DATE:20241012
DTEND;VALUE=DATE:20241013
DTSTAMP:20260423T124202
CREATED:20241009T193642Z
LAST-MODIFIED:20241011T195249Z
UID:1436-1728691200-1728777599@www.donboscoprep.org
SUMMARY:10am-2pm - Play Rehearsal
DESCRIPTION:
URL:https://www.donboscoprep.org/event/10am-2pm-play-rehearsal/
END:VEVENT
END:VCALENDAR