BEGIN:VCALENDAR
VERSION:2.0
PRODID:-//Don Bosco Prep - ECPv6.10.2//NONSGML v1.0//EN
CALSCALE:GREGORIAN
METHOD:PUBLISH
X-WR-CALNAME:Don Bosco Prep
X-ORIGINAL-URL:https://www.donboscoprep.org
X-WR-CALDESC:Events for Don Bosco Prep
REFRESH-INTERVAL;VALUE=DURATION:PT1H
X-Robots-Tag:noindex
X-PUBLISHED-TTL:PT1H
BEGIN:VTIMEZONE
TZID:America/New_York
BEGIN:DAYLIGHT
TZOFFSETFROM:-0500
TZOFFSETTO:-0400
TZNAME:EDT
DTSTART:20260308T070000
END:DAYLIGHT
BEGIN:STANDARD
TZOFFSETFROM:-0400
TZOFFSETTO:-0500
TZNAME:EST
DTSTART:20261101T060000
END:STANDARD
END:VTIMEZONE
BEGIN:VEVENT
DTSTART;TZID=America/New_York:20260310T090000
DTEND;TZID=America/New_York:20260310T100000
DTSTAMP:20260419T153646
CREATED:20260124T112509Z
LAST-MODIFIED:20260309T222224Z
UID:4887-1773133200-1773136800@www.donboscoprep.org
SUMMARY:9am - Guidance Trip to Kean University
DESCRIPTION:
URL:https://www.donboscoprep.org/event/9am-guidance-trip-to-kean-university/
END:VEVENT
END:VCALENDAR