BEGIN:VCALENDAR
VERSION:2.0
PRODID:-//Don Bosco Prep - ECPv6.10.2//NONSGML v1.0//EN
CALSCALE:GREGORIAN
METHOD:PUBLISH
X-WR-CALNAME:Don Bosco Prep
X-ORIGINAL-URL:https://www.donboscoprep.org
X-WR-CALDESC:Events for Don Bosco Prep
REFRESH-INTERVAL;VALUE=DURATION:PT1H
X-Robots-Tag:noindex
X-PUBLISHED-TTL:PT1H
BEGIN:VTIMEZONE
TZID:America/New_York
BEGIN:DAYLIGHT
TZOFFSETFROM:-0500
TZOFFSETTO:-0400
TZNAME:EDT
DTSTART:20260308T070000
END:DAYLIGHT
BEGIN:STANDARD
TZOFFSETFROM:-0400
TZOFFSETTO:-0500
TZNAME:EST
DTSTART:20261101T060000
END:STANDARD
END:VTIMEZONE
BEGIN:VEVENT
DTSTART;VALUE=DATE:20260423
DTEND;VALUE=DATE:20260424
DTSTAMP:20260423T062144
CREATED:20251211T002911Z
LAST-MODIFIED:20260422T020529Z
UID:10002024-1776902400-1776988799@www.donboscoprep.org
SUMMARY:Dress Down for Annual Fire Pull
DESCRIPTION:
URL:https://www.donboscoprep.org/event/annual-fire-pull/
END:VEVENT
BEGIN:VEVENT
DTSTART;VALUE=DATE:20260423
DTEND;VALUE=DATE:20260424
DTSTAMP:20260423T062144
CREATED:20251211T002912Z
LAST-MODIFIED:20260422T020529Z
UID:10002025-1776902400-1776988799@www.donboscoprep.org
SUMMARY:Day B
DESCRIPTION:
URL:https://www.donboscoprep.org/event/day-a-41/
END:VEVENT
BEGIN:VEVENT
DTSTART;VALUE=DATE:20260423
DTEND;VALUE=DATE:20260424
DTSTAMP:20260423T062144
CREATED:20260123T111216Z
LAST-MODIFIED:20260422T020529Z
UID:10002118-1776902400-1776988799@www.donboscoprep.org
SUMMARY:Bring Your Child to Work Day
DESCRIPTION:
URL:https://www.donboscoprep.org/event/take-our-child-to-work-day/
END:VEVENT
BEGIN:VEVENT
DTSTART;TZID=America/New_York:20260423T140000
DTEND;TZID=America/New_York:20260423T150000
DTSTAMP:20260423T062144
CREATED:20250715T044127Z
LAST-MODIFIED:20260423T021940Z
UID:10000999-1776952800-1776956400@www.donboscoprep.org
SUMMARY:2-3pm - New Colleague Year 2
DESCRIPTION:
URL:https://www.donboscoprep.org/event/2-3pm-new-colleague-year-2-8/
END:VEVENT
BEGIN:VEVENT
DTSTART;TZID=America/New_York:20260423T143000
DTEND;TZID=America/New_York:20260423T160000
DTSTAMP:20260423T062144
CREATED:20250717T044245Z
LAST-MODIFIED:20260423T021940Z
UID:10001152-1776954600-1776960000@www.donboscoprep.org
SUMMARY:2:30-4pm - Improv Rehearsal
DESCRIPTION:
URL:https://www.donboscoprep.org/event/230-4pm-improv-rehearsal-23/
END:VEVENT
BEGIN:VEVENT
DTSTART;TZID=America/New_York:20260423T183000
DTEND;TZID=America/New_York:20260423T203000
DTSTAMP:20260423T062144
CREATED:20260302T204011Z
LAST-MODIFIED:20260423T021941Z
UID:10002174-1776969000-1776976200@www.donboscoprep.org
SUMMARY:6:30-8:30pm - ADM-OH: Open House
DESCRIPTION:
URL:https://www.donboscoprep.org/event/630-830pm-adm-oh-open-house-2/
END:VEVENT
END:VCALENDAR