BEGIN:VCALENDAR
VERSION:2.0
PRODID:-//Don Bosco Prep - ECPv6.10.2//NONSGML v1.0//EN
CALSCALE:GREGORIAN
METHOD:PUBLISH
X-ORIGINAL-URL:https://www.donboscoprep.org
X-WR-CALDESC:Events for Don Bosco Prep
REFRESH-INTERVAL;VALUE=DURATION:PT1H
X-Robots-Tag:noindex
X-PUBLISHED-TTL:PT1H
BEGIN:VTIMEZONE
TZID:America/New_York
BEGIN:DAYLIGHT
TZOFFSETFROM:-0500
TZOFFSETTO:-0400
TZNAME:EDT
DTSTART:20240310T070000
END:DAYLIGHT
BEGIN:STANDARD
TZOFFSETFROM:-0400
TZOFFSETTO:-0500
TZNAME:EST
DTSTART:20241103T060000
END:STANDARD
BEGIN:DAYLIGHT
TZOFFSETFROM:-0500
TZOFFSETTO:-0400
TZNAME:EDT
DTSTART:20250309T070000
END:DAYLIGHT
BEGIN:STANDARD
TZOFFSETFROM:-0400
TZOFFSETTO:-0500
TZNAME:EST
DTSTART:20251102T060000
END:STANDARD
BEGIN:DAYLIGHT
TZOFFSETFROM:-0500
TZOFFSETTO:-0400
TZNAME:EDT
DTSTART:20260308T070000
END:DAYLIGHT
BEGIN:STANDARD
TZOFFSETFROM:-0400
TZOFFSETTO:-0500
TZNAME:EST
DTSTART:20261101T060000
END:STANDARD
END:VTIMEZONE
BEGIN:VEVENT
DTSTART;TZID=America/New_York:20260319T160000
DTEND;TZID=America/New_York:20260319T190000
DTSTAMP:20260423T044257
CREATED:20251120T191426Z
LAST-MODIFIED:20260319T045229Z
UID:10001990-1773936000-1773946800@www.donboscoprep.org
SUMMARY:4-7pm - MTG: Faculty and Staff Social- St. Patty and St. Joseph
DESCRIPTION:
URL:https://www.donboscoprep.org/event/4-7pm-mtg-faculty-and-staff-social-st-patty-and-st-joseph/
LOCATION:Savio Hall 3rd Floor S-300
END:VEVENT
BEGIN:VEVENT
DTSTART;VALUE=DATE:20260309
DTEND;VALUE=DATE:20260310
DTSTAMP:20260423T044257
CREATED:20260116T092519Z
LAST-MODIFIED:20260308T220749Z
UID:10002089-1773014400-1773100799@www.donboscoprep.org
SUMMARY:MTG: International Women Day Breakfast
DESCRIPTION:
URL:https://www.donboscoprep.org/event/mtg-international-women-day-breakfast/
LOCATION:Savio Hall 3rd Floor S-300
END:VEVENT
BEGIN:VEVENT
DTSTART;TZID=America/New_York:20260303T141000
DTEND;TZID=America/New_York:20260303T150000
DTSTAMP:20260423T044257
CREATED:20260227T195258Z
LAST-MODIFIED:20260302T203727Z
UID:10002172-1772547000-1772550000@www.donboscoprep.org
SUMMARY:2:10-3pm - MTG: Staff Meeting
DESCRIPTION:
URL:https://www.donboscoprep.org/event/210-3pm-mtg-staff-meeting-13/
LOCATION:Savio Hall 3rd Floor S-300
END:VEVENT
BEGIN:VEVENT
DTSTART;TZID=America/New_York:20260302T141000
DTEND;TZID=America/New_York:20260302T150000
DTSTAMP:20260423T044257
CREATED:20260226T193746Z
LAST-MODIFIED:20260226T193746Z
UID:10002169-1772460600-1772463600@www.donboscoprep.org
SUMMARY:2:10-3am - MTG: Staff Meeting
DESCRIPTION:
URL:https://www.donboscoprep.org/event/210-3am-mtg-staff-meeting/
LOCATION:Savio Hall 3rd Floor S-300
END:VEVENT
BEGIN:VEVENT
DTSTART;VALUE=DATE:20251216
DTEND;VALUE=DATE:20251217
DTSTAMP:20260423T044257
CREATED:20250730T075708Z
LAST-MODIFIED:20251215T012226Z
UID:10001330-1765843200-1765929599@www.donboscoprep.org
SUMMARY:Senior Portaits
DESCRIPTION:
URL:https://www.donboscoprep.org/event/senior-portaits-2/
LOCATION:Savio Hall 3rd Floor S-300
END:VEVENT
BEGIN:VEVENT
DTSTART;VALUE=DATE:20251215
DTEND;VALUE=DATE:20251216
DTSTAMP:20260423T044257
CREATED:20250730T075708Z
LAST-MODIFIED:20251214T010726Z
UID:10001329-1765756800-1765843199@www.donboscoprep.org
SUMMARY:Senior Potraits
DESCRIPTION:
URL:https://www.donboscoprep.org/event/senior-potraits/
LOCATION:Savio Hall 3rd Floor S-300
END:VEVENT
BEGIN:VEVENT
DTSTART;TZID=America/New_York:20251202T140000
DTEND;TZID=America/New_York:20251202T150000
DTSTAMP:20260423T044257
CREATED:20251124T200806Z
LAST-MODIFIED:20251201T215228Z
UID:10001998-1764684000-1764687600@www.donboscoprep.org
SUMMARY:2-3pm - Real Estate Club
DESCRIPTION:
URL:https://www.donboscoprep.org/event/2-3pm-real-estate-club/
LOCATION:Savio Hall 3rd Floor S-300
END:VEVENT
BEGIN:VEVENT
DTSTART;VALUE=DATE:20250820
DTEND;VALUE=DATE:20250821
DTSTAMP:20260423T044257
CREATED:20250702T032307Z
LAST-MODIFIED:20250820T130825Z
UID:10000940-1755691200-1755716400@www.donboscoprep.org
SUMMARY:8am-3pm - MTG: New Faculty Orientation - Education Staff
DESCRIPTION:
URL:https://www.donboscoprep.org/event/8am-3pm-mtg-new-faculty-orientation/
LOCATION:Savio Hall 3rd Floor S-300
END:VEVENT
BEGIN:VEVENT
DTSTART;VALUE=DATE:20241018
DTEND;VALUE=DATE:20241019
DTSTAMP:20260423T044257
CREATED:20241016T210747Z
LAST-MODIFIED:20241017T212935Z
UID:10000368-1729262100-1729266420@www.donboscoprep.org
SUMMARY:10:35-11:47am - Ciofalo 24-25: 11-3 College Planning
DESCRIPTION:10:35-11:47am – Ciofalo 24-25: 11-3 College Planning @ Savio 3rd Floor
URL:https://www.donboscoprep.org/event/1035-1147am-ciofalo-24-25-11-3-college-planning/
LOCATION:Savio Hall 3rd Floor S-300
END:VEVENT
END:VCALENDAR